BEGIN:VCALENDAR
VERSION:2.0
PRODID:spatie/icalendar-generator
NAME:GrønBusiness - Joint Project Meeting #10
X-WR-CALNAME:GrønBusiness - Joint Project Meeting #10
BEGIN:VTIMEZONE
TZID:Europe/Berlin
BEGIN:DAYLIGHT
DTSTART:20250330T010000
TZOFFSETFROM:+0100
TZOFFSETTO:+0200
END:DAYLIGHT
BEGIN:STANDARD
DTSTART:20251026T030000
TZOFFSETFROM:+0200
TZOFFSETTO:+0100
END:STANDARD
BEGIN:DAYLIGHT
DTSTART:20260329T010000
TZOFFSETFROM:+0100
TZOFFSETTO:+0200
END:DAYLIGHT
END:VTIMEZONE
BEGIN:VTIMEZONE
TZID:UTC
BEGIN:STANDARD
DTSTART:20250726T150959
TZOFFSETFROM:+0000
TZOFFSETTO:+0000
END:STANDARD
END:VTIMEZONE
BEGIN:VEVENT
UID:69e8e4c71dda9
DTSTAMP:20260422T150959Z
SUMMARY:GrønBusiness - Joint Project Meeting #10
DESCRIPTION:Dear All\,\nPlease kindly register for the Joint Project Meetin
 g #10\, which is hosted by Kari from SDU.\nAgenda9 December 2025SDU Sønde
 rborg\, Alsion 2\, 6400 Sønderborg\, DK\n11.30-13.00 - light lunch\n13.00
 -17.00 - Joint Project Meeting\n18.00 - Common Dinner at own costs10 Decem
 ber 2025SDU Sønderborg\, Alsion 2\, 6400 Sønderborg\, DK\n9.00-13.00 - J
 oint Project Meeting\n13.00-14.00 - light lunch\nHotel recommendationsYou 
 can contact Jette Toft (jti@iti.sdu.dk) for the hotel booking as the SDU h
 as special prices for the following hotels or you can book a hotel by your
 self. All the hotels are in walking distance from the University.\nAlsik H
 otel &amp\; Spa \n mail: info@alsik.steigenberger.com\n address: Nørre Ha
 vnegade 21-25 6400 Sønderborg\nSDU price: 1069 pr night Breakfast: 124 kr
 \n\nHotel Sønderborg Kaserne \n mail: hotel@sonderborgkaserne.dk\n adress
 : Gerlachsgade 8 6400 Sønderborg\nSDU price: 766\,25 incl. Breakfast\nHot
 el Sønderborg Strand \n mail: hotel@sonderborgstrand.dk \n adress: Strand
 vej 1 6400 Sønderborg\n SDU price: 1047\,50 incl. Breakfast\n\n\nThe pers
 onal data entered here will be collected solely for the purpose of impleme
 nting Project GrønBusiness. This data will be stored until the end of the
  project on the basis of the Federal Data Protection Act.\n\n\n
LOCATION:SDU Sønderborg\, Alsion
URL:https://events.dsn-online.de/event/zRrEboR6
DTSTART;TZID=Europe/Berlin:20251209T130000
DTEND;TZID=Europe/Berlin:20251210T140000
END:VEVENT
END:VCALENDAR