BEGIN:VCALENDAR
VERSION:2.0
PRODID:spatie/icalendar-generator
NAME:!AUSGEBUCHT! Landgespräche
X-WR-CALNAME:!AUSGEBUCHT! Landgespräche
BEGIN:VTIMEZONE
TZID:Europe/Berlin
BEGIN:DAYLIGHT
DTSTART:20250330T010000
TZOFFSETFROM:+0100
TZOFFSETTO:+0200
END:DAYLIGHT
BEGIN:STANDARD
DTSTART:20251026T030000
TZOFFSETFROM:+0200
TZOFFSETTO:+0100
END:STANDARD
BEGIN:DAYLIGHT
DTSTART:20260329T010000
TZOFFSETFROM:+0100
TZOFFSETTO:+0200
END:DAYLIGHT
END:VTIMEZONE
BEGIN:VTIMEZONE
TZID:UTC
BEGIN:STANDARD
DTSTART:20250726T150821
TZOFFSETFROM:+0000
TZOFFSETTO:+0000
END:STANDARD
END:VTIMEZONE
BEGIN:VEVENT
UID:69e8e46587feb
DTSTAMP:20260422T150821Z
SUMMARY:!AUSGEBUCHT! Landgespräche
DESCRIPTION:+++ Wir freuen uns über die riesige Nachfrage - nun ist aber d
 ie Veranstaltung leider ausgebucht. +++\nProgrammab 9:00 Uhr Ankommen &amp
 \; Anmelden\n\n10:00 Uhr Begrüßung\nEröffnung der Veranstaltung\nWerner
  Schwarz\, Minister für Landwirtschaft\, ländliche Räume\, Europa und V
 erbraucherschutz des\nLandes Schleswig-Holstein\n\nEinführung\"Nachhaltig
 e Entwicklung im ländlichen Raum - Die AktivRegionen als Motor\"Hans-Jür
 gen Kütbach\, Sprecher der LAG-Vorsitzenden der AktivRegionen Schleswig-H
 olstein\n10:30 Uhr Keynote\n\"Demokratie braucht Begegnungsorte im Alltag\
 "Rainald Manthe\, Soziologe und Autor\n\n11:00 Uhr Ausstellungsbesuch &amp
 \; Kaffeepause \n\n11:15 Uhr Podiumsdiskussion\nmit EU-Abgeordneten von Sc
 hleswig-Holstein sowie weiteren Akteuren im politischen Raum\n\n12:30 Uhr 
 Landgespräche I\nForum 1 Klimaschutz und Klimawandelanpassung \n\"Solar- 
 und Gründachpotenzialkataster\" &amp\; \"Pflanzenkohle aus Biomaterial\"\
 ,\nAktivRegion Dithmarschen\nForum 2 Daseinsvorsorge und Lebensqualität (
 AUSGEBUCHT) \n\"Neubau einer Lehrküche\" &amp\; \"Präventive Hausbesuche
  und seniorenbezogene Sozialraumarbeit\"\, \nAktivRegion Holsteins Herz\nF
 orum 3 Regionale Wertschöpfung (AUSGEBUCHT) \n\"Direktvermarktung auf dem
  Hof - Chancen für regionale Wertschöpfung\"\, \nAktivRegion Pinneberger
  Marsch &amp\; Geest\n13:00 Uhr Ausstellungsbesuch &amp\; Mittagspause \n\
 n13:45 Uhr Warm-up nach der Mittagspause\n\n14:00 Uhr Landgespräche II\nF
 orum 1 Klimaschutz &amp\; Klimawandelanpassung (AUSGEBUCHT) \n\"Grün geda
 cht\, klug gemacht: Energieeffizienz in Gebäuden der öffentlichen\nInfra
 struktur\"\,\nAktivRegion Holsteiner Auenland\nForum 2 Daseinsvorsorge &am
 p\; Lebensqualität \n\"Ehrenamt im ländlichen Raum\"\nAktivRegionen Mitt
 elholstein und Eider-Treene-Sorge\nForum 3 Regionale Wertschöpfung\n\"Dig
 itale Gründungs-und Nachfolgeplattform\"\nAktivRegion Südliches Nordfrie
 sland\n14:45 Uhr Landgespräche III\nForum 1\n\"Die Stimme des ländlichen
  Raumes - die Akademie für die ländlichen Räume Schleswig-Holsteins e.V
 . (ALR)\"\nForum 2 \n\"Demokratie-Muskeln im ländlichen Raum\"\,\nProjekt
 gruppe Soziale Innovation\, Christian-Albrechts-Universität zu Kiel\nForu
 m 3 (AUSGEBUCHT)\n\"Die Jugend der AktivRegionen\"\n15:15 Uhr Abschlussrun
 de\nGemeinsames Fazit und Erkenntnisse \n\n15:30 Uhr Zeit zum Netzwerken &
 amp\; Ausstellungsbesuch \n\n16:00 Uhr Ende der Veranstaltung \n\nHinweis 
 zur thematischen Vorauswahl der Landgespräche: Wir halten am Veranstaltun
 gstag Ihre heute getroffene Auswahl für Sie bereit.\n\nHier geht's zum Pr
 ogramm und weiteren Informationen (PDF).\n\n\n
LOCATION:Hohes Arsenal\, Arsenalstraße 2\, 24768 Rendsburg
URL:https://events.dsn-online.de/event/zR6EbKRD
DTSTART;TZID=Europe/Berlin:20250929T100000
DTEND;TZID=Europe/Berlin:20250929T160000
END:VEVENT
END:VCALENDAR