BEGIN:VCALENDAR
VERSION:2.0
PRODID:spatie/icalendar-generator
NAME:CAPTN Energy - 1. Vernetzungstreffen der Projekte
X-WR-CALNAME:CAPTN Energy - 1. Vernetzungstreffen der Projekte
BEGIN:VTIMEZONE
TZID:Europe/Berlin
BEGIN:STANDARD
DTSTART:20251026T030000
TZOFFSETFROM:+0200
TZOFFSETTO:+0100
END:STANDARD
BEGIN:DAYLIGHT
DTSTART:20260329T010000
TZOFFSETFROM:+0100
TZOFFSETTO:+0200
END:DAYLIGHT
BEGIN:STANDARD
DTSTART:20261025T030000
TZOFFSETFROM:+0200
TZOFFSETTO:+0100
END:STANDARD
END:VTIMEZONE
BEGIN:VTIMEZONE
TZID:UTC
BEGIN:STANDARD
DTSTART:20250724T175821
TZOFFSETFROM:+0000
TZOFFSETTO:+0000
END:STANDARD
END:VTIMEZONE
BEGIN:VEVENT
UID:69e6693dce22c
DTSTAMP:20260420T175821Z
SUMMARY:CAPTN Energy - 1. Vernetzungstreffen der Projekte
DESCRIPTION:Wir laden Sie herzlich ein zum 1. CAPTN Energy Vernetzungstreff
 en!\n\nNach langen Verzögerungen haben inzwischen 18 Projekte im Rahmen v
 on CAPTN Energy ihre Arbeit aufnehmen können oder stehen kurz davor. Das 
 1. Vernetzungstreffen soll nun den Einblick in die verschiedenen Projekte 
 ermöglichen und zum fachlichen Austausch anregen.\n\nBitte geben Sie bei 
 der Anmeldung an\, ob Sie mit einem Poster inkl. Pitch am Vernetzungstreff
 en teilnehmen und geben Sie ggf. den Titel an. \n\nDas Programm\n9 Uhr\nBe
 grüßung durch Frank Meisel\n\n9:05 Uhr\nCAPTN Energy - ein Überblick\n\
 n9:15 Uhr\nPitches der Projekte\n\n10 Uhr\nPostersession\n\n11 Uhr\nAustau
 sch in thematischen Arbeitsgruppen\n\n11:45 Uhr\nAbschlussrunde\n\n\n
LOCATION:Wissenschaftszentrum Kiel \, Fraunhoferstraße 13\, \, 24118 Kiel
URL:https://events.dsn-online.de/event/WP6MLJYD
DTSTART;TZID=Europe/Berlin:20260619T090000
DTEND;TZID=Europe/Berlin:20260619T120000
END:VEVENT
END:VCALENDAR